View In:
ArcGIS JavaScript
ArcGIS Online Map Viewer
ArcGIS Earth
Service Description: Default
Name: Default
Description:
Single Fused Map Cache: false
Extent:
XMin: 2146999.9999999995
YMin: 1480999.9999999995
XMax: 2271999.9999999995
YMax: 1605999.9999999995
Spatial Reference: 103263
(103263)
LatestVCSWkid(0)
Initial Extent:
XMin: 2146999.9999999995
YMin: 1480999.9999999995
XMax: 2271999.9999999995
YMax: 1605999.9999999995
Spatial Reference: 103263
(103263)
LatestVCSWkid(0)
Full Extent:
XMin: 2146999.9999999995
YMin: 1480999.9999999995
XMax: 2271999.9999999995
YMax: 1605999.9999999995
Spatial Reference: 103263
(103263)
LatestVCSWkid(0)
Pixel Size X: 0.5
Pixel Size Y: 0.5
Band Count: 5
Pixel Type: U8
RasterFunction Infos: {"rasterFunctionInfos": [{
"name": "None",
"description": "",
"help": ""
}]}
Mensuration Capabilities: Basic
Inspection Capabilities:
Has Histograms: true
Has Colormap: false
Has Multi Dimensions : false
Rendering Rule:
Min Scale: 0
Max Scale: 0
Copyright Text:
Service Data Type: esriImageServiceDataTypeGeneric
Min Values: 0, 0, 0, 0, 0
Max Values: 156, 156, 149, 179, 255
Mean Values: 61.448231009365, 68.368626430801, 62.568678459938, 92.476586888658, 215.48048907388
Standard Deviation Values: 30.649849802511, 31.696386872595, 28.841545960361, 41.786319366097, 91.315916759692
Object ID Field:
Fields:
None
Default Mosaic Method: Center
Allowed Mosaic Methods:
SortField:
SortValue: null
Mosaic Operator: First
Default Compression Quality: 75
Default Resampling Method: Bilinear
Max Record Count: null
Max Image Height: 4100
Max Image Width: 15000
Max Download Image Count: null
Max Mosaic Image Count: null
Allow Raster Function: true
Allow Copy: true
Allow Analysis: true
Allow Compute TiePoints: false
Supports Statistics: false
Supports Advanced Queries: false
Use StandardizedQueries: true
Raster Type Infos:
Name: Raster Dataset
Description: Supports all ArcGIS Raster Datasets
Help:
Has Raster Attribute Table: false
Edit Fields Info: null
Ownership Based AccessControl For Rasters: null
Child Resources:
Info
Histograms
Statistics
Key Properties
Legend
Raster Function Infos
Supported Operations:
Export Image
Identify
Measure
Compute Histograms
Compute Statistics Histograms
Get Samples
Compute Class Statistics
Query Boundary
Compute Pixel Location
Compute Angles
Validate
Project