{
 "currentVersion": 11.5,
 "serviceDescription": "Default",
 "serviceItemId": "0d8360c985c24bd69d9b5295e01bbc2a",
 "name": "Default",
 "description": "",
 "extent": {
  "xmin": 2146999.9999999995,
  "ymin": 1480999.9999999995,
  "xmax": 2271999.9999999995,
  "ymax": 1605999.9999999995,
  "spatialReference": {
   "wkid": 103263,
   "latestWkid": 103263
  }
 },
 "initialExtent": {
  "xmin": 2146999.9999999995,
  "ymin": 1480999.9999999995,
  "xmax": 2271999.9999999995,
  "ymax": 1605999.9999999995,
  "spatialReference": {
   "wkid": 103263,
   "latestWkid": 103263
  }
 },
 "fullExtent": {
  "xmin": 2146999.9999999995,
  "ymin": 1480999.9999999995,
  "xmax": 2271999.9999999995,
  "ymax": 1605999.9999999995,
  "spatialReference": {
   "wkid": 103263,
   "latestWkid": 103263
  }
 },
 "sortableFields": "",
 "bandCount": 5,
 "pixelType": "U8",
 "minValues": [
  0,
  0,
  0,
  0,
  0
 ],
 "maxValues": [
  156,
  156,
  149,
  179,
  255
 ],
 "meanValues": [
  61.448231009365,
  68.368626430801,
  62.568678459938,
  92.476586888658,
  215.48048907388
 ],
 "stdvValues": [
  30.649849802511,
  31.696386872595,
  28.841545960361,
  41.786319366097,
  91.315916759692
 ],
 "serviceProperties": "Center<\/MosaicMethod>First<\/MosaicOperator>true<\/SortAscending><\/LockImageID><\/TileOrderField>0<\/TileOrderBase>0.000000<\/AvgImageSpacingX>0.000000<\/AvgImageSpacingY>0.0<\/ViewPointX>0.0<\/ViewPointY>0.0<\/ViewPointDefShiftX>0.0<\/ViewPointDefShiftY>None<\/CompressionMethod>75<\/CompressionQuality>0.010000<\/CompressionTolerance>Bilinear<\/SamplingMethod><\/ImageServiceProperties><\/ImageServer>",
 "allowedFields": "",
 "hasMultidimensions": false,
 "pixelSizeX": 0.5,
 "pixelSizeY": 0.5,
 "meanPixelSize": 0.15240030480060962,
 "datasetFormat": "MrSID",
 "uncompressedSize": 312500000000,
 "blockWidth": 1024,
 "blockHeight": 128,
 "compressionType": "Wavelet (MG4)",
 "bandNames": [
  "Band_1",
  "Band_2",
  "Band_3",
  "Band_4",
  "Band_5"
 ],
 "allowCopy": true,
 "allowAnalysis": true,
 "itemAccess": false,
 "inspectionCapabilities": "",
 "minPixelSize": 0,
 "maxPixelSize": 0,
 "copyrightText": "",
 "serviceDataType": "esriImageServiceDataTypeGeneric",
 "serviceSourceType": "esriImageServiceSourceTypeDataset",
 "objectIdField": "",
 "fields": [],
 "capabilities": "Image,Metadata,Mensuration",
 "defaultMosaicMethod": "Center",
 "allowedMosaicMethods": "",
 "sortField": "",
 "sortValue": null,
 "sortAscending": true,
 "mosaicOperator": "First",
 "defaultCompressionQuality": 75,
 "defaultResamplingMethod": "Bilinear",
 "maxImageHeight": 4100,
 "maxImageWidth": 15000,
 "allowRasterFunction": true,
 "rasterFunctionInfos": [
  {
   "name": "None",
   "description": "",
   "help": ""
  }
 ],
 "rasterTypeInfos": [
  {
   "name": "Raster Dataset",
   "description": "Supports all ArcGIS Raster Datasets",
   "help": ""
  }
 ],
 "mensurationCapabilities": "Basic",
 "hasHistograms": true,
 "hasColormap": false,
 "hasRasterAttributeTable": false,
 "minScale": 0,
 "maxScale": 0,
 "exportTilesAllowed": false,
 "supportsStatistics": false,
 "supportsAdvancedQueries": false,
 "editFieldsInfo": null,
 "ownershipBasedAccessControlForRasters": null,
 "allowComputeTiePoints": false,
 "useStandardizedQueries": true,
 "advancedQueryCapabilities": {
  "useStandardizedQueries": true,
  "supportsStatistics": false,
  "supportsOrderBy": false,
  "supportsDistinct": false,
  "supportsPagination": false
 },
 "spatialReference": {
  "wkid": 103263,
  "latestWkid": 103263
 }
}
